BEGIN:VCALENDAR
VERSION:2.0
PRODID:-//Cours ta Réussite - ECPv6.13.2.1//NONSGML v1.0//EN
CALSCALE:GREGORIAN
METHOD:PUBLISH
X-WR-CALNAME:Cours ta Réussite
X-ORIGINAL-URL:https://www.courstareussite.com
X-WR-CALDESC:Évènements pour Cours ta Réussite
REFRESH-INTERVAL;VALUE=DURATION:PT1H
X-Robots-Tag:noindex
X-PUBLISHED-TTL:PT1H
BEGIN:VTIMEZONE
TZID:America/Toronto
BEGIN:DAYLIGHT
TZOFFSETFROM:-0500
TZOFFSETTO:-0400
TZNAME:EDT
DTSTART:20260308T070000
END:DAYLIGHT
BEGIN:STANDARD
TZOFFSETFROM:-0400
TZOFFSETTO:-0500
TZNAME:EST
DTSTART:20261101T060000
END:STANDARD
END:VTIMEZONE
BEGIN:VEVENT
DTSTART;TZID=America/Toronto:20260122T150000
DTEND;TZID=America/Toronto:20260122T174500
DTSTAMP:20260423T195523
CREATED:20260123T020000Z
LAST-MODIFIED:20260123T020000Z
UID:3999-1769094000-1769103900@www.courstareussite.com
SUMMARY:Conférence: Prévention des blessures
DESCRIPTION:
URL:https://www.courstareussite.com/calendrier/conference-prevention-des-blessures/
LOCATION:Gymnase
END:VEVENT
END:VCALENDAR