BEGIN:VCALENDAR
VERSION:2.0
PRODID:-//Cours ta Réussite - ECPv6.13.2.1//NONSGML v1.0//EN
CALSCALE:GREGORIAN
METHOD:PUBLISH
X-WR-CALNAME:Cours ta Réussite
X-ORIGINAL-URL:https://www.courstareussite.com
X-WR-CALDESC:Évènements pour Cours ta Réussite
REFRESH-INTERVAL;VALUE=DURATION:PT1H
X-Robots-Tag:noindex
X-PUBLISHED-TTL:PT1H
BEGIN:VTIMEZONE
TZID:America/Toronto
BEGIN:DAYLIGHT
TZOFFSETFROM:-0500
TZOFFSETTO:-0400
TZNAME:EDT
DTSTART:20260308T070000
END:DAYLIGHT
BEGIN:STANDARD
TZOFFSETFROM:-0400
TZOFFSETTO:-0500
TZNAME:EST
DTSTART:20261101T060000
END:STANDARD
END:VTIMEZONE
BEGIN:VEVENT
DTSTART;TZID=America/Toronto:20260426T083000
DTEND;TZID=America/Toronto:20260426T120000
DTSTAMP:20260423T093512
CREATED:20260123T021404Z
LAST-MODIFIED:20260123T021404Z
UID:4011-1777192200-1777204800@www.courstareussite.com
SUMMARY:Course: La Classique Champlain 10 km
DESCRIPTION:
URL:https://www.courstareussite.com/calendrier/course-la-classique-champlain-10-km/
END:VEVENT
BEGIN:VEVENT
DTSTART;TZID=America/Toronto:20260507T163000
DTEND;TZID=America/Toronto:20260507T173000
DTSTAMP:20260423T093512
CREATED:20260123T021504Z
LAST-MODIFIED:20260123T021504Z
UID:4013-1778171400-1778175000@www.courstareussite.com
SUMMARY:Entraînement sur la Plage Jacques-Cartier et crème glacée
DESCRIPTION:
URL:https://www.courstareussite.com/calendrier/entrainement-sur-la-plage-jacques-cartier-et-creme-glacee-2/
END:VEVENT
BEGIN:VEVENT
DTSTART;TZID=America/Toronto:20260516T100000
DTEND;TZID=America/Toronto:20260516T123000
DTSTAMP:20260423T093512
CREATED:20260123T021558Z
LAST-MODIFIED:20260123T021558Z
UID:4015-1778925600-1778934600@www.courstareussite.com
SUMMARY:Entraînement Chutes Montmorency
DESCRIPTION:
URL:https://www.courstareussite.com/calendrier/entrainement-chutes-montmorency/
END:VEVENT
BEGIN:VEVENT
DTSTART;TZID=America/Toronto:20260530T080000
DTEND;TZID=America/Toronto:20260530T133000
DTSTAMP:20260423T093512
CREATED:20260123T021645Z
LAST-MODIFIED:20260123T021645Z
UID:4017-1780128000-1780147800@www.courstareussite.com
SUMMARY:Course: Tour du Cap Tourmente 21 km
DESCRIPTION:
URL:https://www.courstareussite.com/calendrier/course-tour-du-cap-tourmente-21-km/
END:VEVENT
BEGIN:VEVENT
DTSTART;TZID=America/Toronto:20260602T160000
DTEND;TZID=America/Toronto:20260602T210000
DTSTAMP:20260423T093512
CREATED:20260123T021746Z
LAST-MODIFIED:20260123T021746Z
UID:4019-1780416000-1780434000@www.courstareussite.com
SUMMARY:Gala
DESCRIPTION:
URL:https://www.courstareussite.com/calendrier/gala/
END:VEVENT
END:VCALENDAR