BEGIN:VCALENDAR
VERSION:2.0
PRODID:-//Cours ta Réussite - ECPv6.13.2.1//NONSGML v1.0//EN
CALSCALE:GREGORIAN
METHOD:PUBLISH
X-WR-CALNAME:Cours ta Réussite
X-ORIGINAL-URL:https://www.courstareussite.com
X-WR-CALDESC:Évènements pour Cours ta Réussite
REFRESH-INTERVAL;VALUE=DURATION:PT1H
X-Robots-Tag:noindex
X-PUBLISHED-TTL:PT1H
BEGIN:VTIMEZONE
TZID:America/Toronto
BEGIN:DAYLIGHT
TZOFFSETFROM:-0500
TZOFFSETTO:-0400
TZNAME:EDT
DTSTART:20240310T070000
END:DAYLIGHT
BEGIN:STANDARD
TZOFFSETFROM:-0400
TZOFFSETTO:-0500
TZNAME:EST
DTSTART:20241103T060000
END:STANDARD
END:VTIMEZONE
BEGIN:VEVENT
DTSTART;TZID=America/Toronto:20240330T000000
DTEND;TZID=America/Toronto:20240330T235959
DTSTAMP:20260425T111525
CREATED:20240126T150031Z
LAST-MODIFIED:20240130T182137Z
UID:2651-1711756800-1711843199@www.courstareussite.com
SUMMARY:Défi des cocos 2024 🪺🐰
DESCRIPTION:C’est avec un immense plaisir que La corporation des Loisirs Duberger-Les Saules vous annonce la 12e édition notre événement  de course à pied Le défi des cocos !
URL:https://www.courstareussite.com/calendrier/defi-des-cocos-2024/
LOCATION:Parc du Père-Frédéric\, 2655\, rue Robitaille\, Québec\, Québec\, G1P 3E2\, Canada
CATEGORIES:Course,Évènement
END:VEVENT
END:VCALENDAR