BEGIN:VCALENDAR
VERSION:2.0
PRODID:-//Cours ta Réussite - ECPv6.13.2.1//NONSGML v1.0//EN
CALSCALE:GREGORIAN
METHOD:PUBLISH
X-ORIGINAL-URL:https://www.courstareussite.com
X-WR-CALDESC:Évènements pour Cours ta Réussite
REFRESH-INTERVAL;VALUE=DURATION:PT1H
X-Robots-Tag:noindex
X-PUBLISHED-TTL:PT1H
BEGIN:VTIMEZONE
TZID:America/Toronto
BEGIN:DAYLIGHT
TZOFFSETFROM:-0500
TZOFFSETTO:-0400
TZNAME:EDT
DTSTART:20240310T070000
END:DAYLIGHT
BEGIN:STANDARD
TZOFFSETFROM:-0400
TZOFFSETTO:-0500
TZNAME:EST
DTSTART:20241103T060000
END:STANDARD
END:VTIMEZONE
BEGIN:VEVENT
DTSTART;TZID=America/Toronto:20240615T000000
DTEND;TZID=America/Toronto:20240616T235959
DTSTAMP:20260425T072658
CREATED:20240126T151714Z
LAST-MODIFIED:20240130T182019Z
UID:2661-1718409600-1718582399@www.courstareussite.com
SUMMARY:Tour du Lac Brome 🏞️🦆
DESCRIPTION:Venez courir ou marchez le 15 et 16 juin 2024 dans le bucolique village de Knowlton. Découvrez les charmes uniques des Cantons-de-l’Est avec plusieurs distances disponibles ou les défis sur deux jours!\nLe Tour du Lac Brome Sun Life est une des doyennes des courses en région. Chaque année\, plus de 2500 participants sont au rendez-vous. \n \n 
URL:https://www.courstareussite.com/calendrier/tour-du-lac-brome-%f0%9f%8f%9e%ef%b8%8f%f0%9f%a6%86/
LOCATION:Lions Park\, 37 Chemin du Ctre\, Knowlton\, QC\, J0E 1V0\, Canada
CATEGORIES:Course,Évènement
ORGANIZER;CN="Tour du Lac Brome":MAILTO:info@tourdulacbrome.com
END:VEVENT
END:VCALENDAR