BEGIN:VCALENDAR
VERSION:2.0
PRODID:-//Cours ta Réussite - ECPv6.13.2.1//NONSGML v1.0//EN
CALSCALE:GREGORIAN
METHOD:PUBLISH
X-ORIGINAL-URL:https://www.courstareussite.com
X-WR-CALDESC:Évènements pour Cours ta Réussite
REFRESH-INTERVAL;VALUE=DURATION:PT1H
X-Robots-Tag:noindex
X-PUBLISHED-TTL:PT1H
BEGIN:VTIMEZONE
TZID:America/Toronto
BEGIN:DAYLIGHT
TZOFFSETFROM:-0500
TZOFFSETTO:-0400
TZNAME:EDT
DTSTART:20240310T070000
END:DAYLIGHT
BEGIN:STANDARD
TZOFFSETFROM:-0400
TZOFFSETTO:-0500
TZNAME:EST
DTSTART:20241103T060000
END:STANDARD
END:VTIMEZONE
BEGIN:VEVENT
DTSTART;TZID=America/Toronto:20240511T000000
DTEND;TZID=America/Toronto:20240511T235959
DTSTAMP:20260425T093814
CREATED:20240126T151008Z
LAST-MODIFIED:20240130T182042Z
UID:2657-1715385600-1715471999@www.courstareussite.com
SUMMARY:Bonjour Printemps de Victoriaville 🌱🌞
DESCRIPTION:Inaugurez la saison printanière au Cégep de Victoriaville en participant à l’événement de course à pied et de marche sportive le plus festif en ville ! \nBonjour Printemps\, présenté par Cascades\, est accessible tant aux athlètes qu’aux débutants de tous âges et de toutes les conditions.
URL:https://www.courstareussite.com/calendrier/bonjour-printemps-de-victoriaville-%f0%9f%8c%b1%f0%9f%8c%9e/
LOCATION:Cégep de Victoriaville\, 475 Notre-Dame E\, Victoriaville\, Quebec\, G6P 4B3\, Canada
CATEGORIES:Course,Évènement
ORGANIZER;CN="Grand D%C3%A9fi Victoriaville":MAILTO:info@granddefi.qc.ca
END:VEVENT
END:VCALENDAR