BEGIN:VCALENDAR
VERSION:2.0
PRODID:-//Cours ta Réussite - ECPv6.13.2.1//NONSGML v1.0//EN
CALSCALE:GREGORIAN
METHOD:PUBLISH
X-WR-CALNAME:Cours ta Réussite
X-ORIGINAL-URL:https://www.courstareussite.com
X-WR-CALDESC:Évènements pour Cours ta Réussite
REFRESH-INTERVAL;VALUE=DURATION:PT1H
X-Robots-Tag:noindex
X-PUBLISHED-TTL:PT1H
BEGIN:VTIMEZONE
TZID:America/Toronto
BEGIN:DAYLIGHT
TZOFFSETFROM:-0500
TZOFFSETTO:-0400
TZNAME:EDT
DTSTART:20240310T070000
END:DAYLIGHT
BEGIN:STANDARD
TZOFFSETFROM:-0400
TZOFFSETTO:-0500
TZNAME:EST
DTSTART:20241103T060000
END:STANDARD
END:VTIMEZONE
BEGIN:VEVENT
DTSTART;TZID=America/Toronto:20240525T000000
DTEND;TZID=America/Toronto:20240525T235959
DTSTAMP:20260425T093331
CREATED:20240126T145435Z
LAST-MODIFIED:20240126T145435Z
UID:2649-1716595200-1716681599@www.courstareussite.com
SUMMARY:Entraînement spécial : course jusqu'aux chutes Montmorency 🏞️🏃‍♀️
DESCRIPTION:Suivi d’un beau dîner.
URL:https://www.courstareussite.com/calendrier/entrainement-special-course-jusquaux-chutes-montmorency-%f0%9f%8f%9e%ef%b8%8f%f0%9f%8f%83%e2%99%80%ef%b8%8f/
CATEGORIES:Entrainement,Spécial
END:VEVENT
END:VCALENDAR