BEGIN:VCALENDAR
VERSION:2.0
PRODID:-//Cours ta Réussite - ECPv6.13.2.1//NONSGML v1.0//EN
CALSCALE:GREGORIAN
METHOD:PUBLISH
X-ORIGINAL-URL:https://www.courstareussite.com
X-WR-CALDESC:Évènements pour Cours ta Réussite
REFRESH-INTERVAL;VALUE=DURATION:PT1H
X-Robots-Tag:noindex
X-PUBLISHED-TTL:PT1H
BEGIN:VTIMEZONE
TZID:America/Toronto
BEGIN:DAYLIGHT
TZOFFSETFROM:-0500
TZOFFSETTO:-0400
TZNAME:EDT
DTSTART:20240310T070000
END:DAYLIGHT
BEGIN:STANDARD
TZOFFSETFROM:-0400
TZOFFSETTO:-0500
TZNAME:EST
DTSTART:20241103T060000
END:STANDARD
END:VTIMEZONE
BEGIN:VEVENT
DTSTART;TZID=America/Toronto:20240620T000000
DTEND;TZID=America/Toronto:20240620T235959
DTSTAMP:20260425T073844
CREATED:20240126T152127Z
LAST-MODIFIED:20240524T013300Z
UID:2665-1718841600-1718927999@www.courstareussite.com
SUMMARY:Gala de clôture – Québec 🎉
DESCRIPTION:
URL:https://www.courstareussite.com/calendrier/gala-de-cloture-quebec-%f0%9f%8e%89/
CATEGORIES:Évènement,Spécial
END:VEVENT
END:VCALENDAR